BEGIN:VCALENDAR
VERSION:2.0
PRODID:-//Survivor Deutschland - ECPv6.15.20//NONSGML v1.0//EN
CALSCALE:GREGORIAN
METHOD:PUBLISH
X-WR-CALNAME:Survivor Deutschland
X-ORIGINAL-URL:https://survivordeutschland.de
X-WR-CALDESC:Veranstaltungen für Survivor Deutschland
REFRESH-INTERVAL;VALUE=DURATION:PT1H
X-Robots-Tag:noindex
X-PUBLISHED-TTL:PT1H
BEGIN:VTIMEZONE
TZID:Europe/Paris
BEGIN:DAYLIGHT
TZOFFSETFROM:+0100
TZOFFSETTO:+0200
TZNAME:CEST
DTSTART:20250330T010000
END:DAYLIGHT
BEGIN:STANDARD
TZOFFSETFROM:+0200
TZOFFSETTO:+0100
TZNAME:CET
DTSTART:20251026T010000
END:STANDARD
BEGIN:DAYLIGHT
TZOFFSETFROM:+0100
TZOFFSETTO:+0200
TZNAME:CEST
DTSTART:20260329T010000
END:DAYLIGHT
BEGIN:STANDARD
TZOFFSETFROM:+0200
TZOFFSETTO:+0100
TZNAME:CET
DTSTART:20261025T010000
END:STANDARD
BEGIN:DAYLIGHT
TZOFFSETFROM:+0100
TZOFFSETTO:+0200
TZNAME:CEST
DTSTART:20270328T010000
END:DAYLIGHT
BEGIN:STANDARD
TZOFFSETFROM:+0200
TZOFFSETTO:+0100
TZNAME:CET
DTSTART:20271031T010000
END:STANDARD
END:VTIMEZONE
BEGIN:VEVENT
DTSTART;TZID=Europe/Paris:20260427T190000
DTEND;TZID=Europe/Paris:20260427T200000
DTSTAMP:20260424T115550
CREATED:20260219T135548Z
LAST-MODIFIED:20260314T231146Z
UID:2188-1777316400-1777320000@survivordeutschland.de
SUMMARY:11. Survivor Talk - Fatigue
DESCRIPTION:Wir laden euch herzlich zum 11. Survivor Talk ein. Dieser findet am 27.04.2026 um 19 Uhr statt. Als Gast freuen wir uns dieses mal Henning Ross begrüßen zu dürfen. Er wird uns eine Einführung in das Thema „Fatigue“ geben. Wir freuen uns auf Euch!  \n\n\n\n\n\n\n\n\n\n\n\n\n\nBitte hier anmelden:\n\n\n\n\n  \n\n\n\n Vorname:\n\n\n \n Nachname:\n\n\n \n E-Mail Adresse:
URL:https://survivordeutschland.de/event/11-survivor-talk-fatigue/
ATTACH;FMTTYPE=image/jpeg:https://survivordeutschland.de/wp-content/uploads/2026/03/10_Survivor-Talk.jpg
ORGANIZER;CN="Survivor Deutschland":MAILTO:hallo@survivordeutschland.de
END:VEVENT
BEGIN:VEVENT
DTSTART;TZID=Europe/Paris:20260617T190000
DTEND;TZID=Europe/Paris:20260617T200000
DTSTAMP:20260424T115550
CREATED:20260219T140438Z
LAST-MODIFIED:20260314T231156Z
UID:2190-1781722800-1781726400@survivordeutschland.de
SUMMARY:12. Survivor Talk - "Neurologische Spätfolgen"
DESCRIPTION:Wir laden euch herzlich zum 11. Survivor Talk ein. Dieser findet am 17.06.2026 um 19 Uhr statt. Als Gast freuen wir uns dieses mal Frau Prof. Dr. Katrin Scheinemann begrüßen zu dürfen. Sie wird uns eine Einführung in das Thema „Neurologische Spätfolgen“ geben. Wir freuen uns auf Euch \n\n\n\n\n\n\n\n\n\n\n\n\n\nBitte hier anmelden:\n\n\n\n\n  \n\n\n\n Vorname:\n\n\n \n Nachname:\n\n\n \n E-Mail Adresse:
URL:https://survivordeutschland.de/event/12-survivor-talk-neurologische-spaetfolgen/
ATTACH;FMTTYPE=image/jpeg:https://survivordeutschland.de/wp-content/uploads/2026/03/11_Survivor-Talk.jpg
ORGANIZER;CN="Survivor Deutschland":MAILTO:hallo@survivordeutschland.de
END:VEVENT
END:VCALENDAR